BEGIN:VCALENDAR
VERSION:2.0
PRODID:-//Réseau des Citoyens Partenaires - ECPv4.6.20.1//NONSGML v1.0//EN
CALSCALE:GREGORIAN
METHOD:PUBLISH
X-WR-CALNAME:Réseau des Citoyens Partenaires
X-ORIGINAL-URL:https://citoyens-partenaires.fr
X-WR-CALDESC:Events for Réseau des Citoyens Partenaires
BEGIN:VEVENT
DTSTART;TZID=Europe/Paris:20170412T183000
DTEND;TZID=Europe/Paris:20170412T203000
DTSTAMP:20260424T215642
CREATED:20170327T080549Z
LAST-MODIFIED:20170327T080549Z
UID:478-1492021800-1492029000@citoyens-partenaires.fr
SUMMARY:Atelier : Eco-gestes 2
DESCRIPTION:Dans les locaux de l’association. \n
URL:https://citoyens-partenaires.fr/index.php/agenda/atelier-eco-gestes-2/
END:VEVENT
END:VCALENDAR