BEGIN:VCALENDAR
VERSION:2.0
PRODID:-//Réseau des Citoyens Partenaires - ECPv4.6.20.1//NONSGML v1.0//EN
CALSCALE:GREGORIAN
METHOD:PUBLISH
X-WR-CALNAME:Réseau des Citoyens Partenaires
X-ORIGINAL-URL:https://citoyens-partenaires.fr
X-WR-CALDESC:Events for Réseau des Citoyens Partenaires
BEGIN:VEVENT
DTSTART;TZID=Europe/Paris:20170330T183000
DTEND;TZID=Europe/Paris:20170330T203000
DTSTAMP:20260424T220413
CREATED:20170327T080336Z
LAST-MODIFIED:20170327T080336Z
UID:474-1490898600-1490905800@citoyens-partenaires.fr
SUMMARY:Atelier : Énergies solaires\, photovoltaïque et thermique\, anges ou démons ?
DESCRIPTION:
URL:https://citoyens-partenaires.fr/index.php/agenda/atelier-energies-solaires-photovoltaique-thermique-anges-demons/
END:VEVENT
END:VCALENDAR