BEGIN:VCALENDAR
VERSION:2.0
PRODID:-//Réseau des Citoyens Partenaires - ECPv4.6.20.1//NONSGML v1.0//EN
CALSCALE:GREGORIAN
METHOD:PUBLISH
X-WR-CALNAME:Réseau des Citoyens Partenaires
X-ORIGINAL-URL:https://citoyens-partenaires.fr
X-WR-CALDESC:Events for Réseau des Citoyens Partenaires
BEGIN:VEVENT
DTSTART;TZID=Europe/Paris:20171220T140000
DTEND;TZID=Europe/Paris:20171220T170000
DTSTAMP:20260424T003650
CREATED:20171215T173058Z
LAST-MODIFIED:20171215T173058Z
UID:923-1513778400-1513789200@citoyens-partenaires.fr
SUMMARY:Atelier fabrication marmites norvégiennes
DESCRIPTION:Le réseau des citoyens partenaires propose à l’ensemble de ces membres de participer à des ateliers de fabrication de marmites norvégiennes. \n
URL:https://citoyens-partenaires.fr/index.php/agenda/atelier-fabrication-marmites-norvegiennes-2/
END:VEVENT
END:VCALENDAR