BEGIN:VCALENDAR
VERSION:2.0
PRODID:-//Réseau des Citoyens Partenaires - ECPv4.6.20.1//NONSGML v1.0//EN
CALSCALE:GREGORIAN
METHOD:PUBLISH
X-WR-CALNAME:Réseau des Citoyens Partenaires
X-ORIGINAL-URL:https://citoyens-partenaires.fr
X-WR-CALDESC:Events for Réseau des Citoyens Partenaires
BEGIN:VEVENT
DTSTART;TZID=Europe/Paris:20170426T200000
DTEND;TZID=Europe/Paris:20170426T220000
DTSTAMP:20260424T215642
CREATED:20170327T081153Z
LAST-MODIFIED:20170327T081153Z
UID:485-1493236800-1493244000@citoyens-partenaires.fr
SUMMARY:Atelier : systèmes de chauffages
DESCRIPTION:Électrique\, pompe à chaleur\, fioul\, gaz\, bois ou même solaire\, venez échanger sur leur efficacité\, avantages / inconvénients mais aussi leurs impacts environnementaux\, et vous aider ainsi dans votre choix. \nRDV à la salle de Guenrouët. \n
URL:https://citoyens-partenaires.fr/index.php/agenda/atelier-systemes-de-chauffages/
END:VEVENT
END:VCALENDAR