BEGIN:VCALENDAR
VERSION:2.0
PRODID:-//Réseau des Citoyens Partenaires - ECPv4.6.20.1//NONSGML v1.0//EN
CALSCALE:GREGORIAN
METHOD:PUBLISH
X-WR-CALNAME:Réseau des Citoyens Partenaires
X-ORIGINAL-URL:https://citoyens-partenaires.fr
X-WR-CALDESC:Events for Réseau des Citoyens Partenaires
BEGIN:VEVENT
DTSTART;TZID=Europe/Paris:20171127T183000
DTEND;TZID=Europe/Paris:20171127T203000
DTSTAMP:20260424T074400
CREATED:20171116T152536Z
LAST-MODIFIED:20171122T093115Z
UID:857-1511807400-1511814600@citoyens-partenaires.fr
SUMMARY:Ateliers Fabrication Marmites Norvégiennes
DESCRIPTION:Les fêtes de fin d’année vont arriver à très grand pas et pourquoi pas\, cette année\, tester la cuisson à la marmite Norvégienne. \nDans le cadre du réseau des Citoyens Partenaires\, vous nous avez faits part de votre intérêt pour participer à un atelier de fabrication de Marmites Norvégiennes. \nNous vous proposons une première rencontre pour échanger sur les différentes méthodes et les modalités de fabrication : \nLundi 27 Novembre à 18h30 \ndans les locaux d’EPV \n(31 route de Rennes – 35 600 REDON) \nMerci de vous inscrire dans le lien suivant si vous souhaitez participer à cette rencontre : \nhttps://framadate.org/n93IvakQ5ToBTora \nAu programme :\n– Une marmite Norvégienne ?\n– Comment ça fonctionne ?\n– Quels sont les différents types de marmites qui existent ?\n– Quel modèle décidons-nous de fabriquer ? \n
URL:https://citoyens-partenaires.fr/index.php/agenda/ateliers-fabrication-marmites-norvegiennes/
CATEGORIES:Réunion projets
END:VEVENT
END:VCALENDAR