BEGIN:VCALENDAR
VERSION:2.0
PRODID:-//Réseau des Citoyens Partenaires - ECPv4.6.20.1//NONSGML v1.0//EN
CALSCALE:GREGORIAN
METHOD:PUBLISH
X-WR-CALNAME:Réseau des Citoyens Partenaires
X-ORIGINAL-URL:https://citoyens-partenaires.fr
X-WR-CALDESC:Events for Réseau des Citoyens Partenaires
BEGIN:VEVENT
DTSTART;TZID=Europe/Paris:20171202T140000
DTEND;TZID=Europe/Paris:20171202T170000
DTSTAMP:20260424T063200
CREATED:20171127T135850Z
LAST-MODIFIED:20171127T135850Z
UID:888-1512223200-1512234000@citoyens-partenaires.fr
SUMMARY:Repair'Café
DESCRIPTION: \n
URL:https://citoyens-partenaires.fr/index.php/agenda/cafe-reparation/
END:VEVENT
END:VCALENDAR