BEGIN:VCALENDAR
VERSION:2.0
PRODID:-//Réseau des Citoyens Partenaires - ECPv4.6.20.1//NONSGML v1.0//EN
CALSCALE:GREGORIAN
METHOD:PUBLISH
X-WR-CALNAME:Réseau des Citoyens Partenaires
X-ORIGINAL-URL:https://citoyens-partenaires.fr
X-WR-CALDESC:Events for Réseau des Citoyens Partenaires
BEGIN:VEVENT
DTSTART;VALUE=DATE:20180907
DTEND;VALUE=DATE:20180910
DTSTAMP:20260423T214917
CREATED:20180713T123900Z
LAST-MODIFIED:20180713T123901Z
UID:998-1536278400-1536537599@citoyens-partenaires.fr
SUMMARY:La fête de la vache Nantaise
DESCRIPTION: \n
URL:https://citoyens-partenaires.fr/index.php/agenda/la-fete-de-la-vache-nantaise/
LOCATION:plesse\, 44630\, France
END:VEVENT
END:VCALENDAR