BEGIN:VCALENDAR
VERSION:2.0
PRODID:-//Réseau des Citoyens Partenaires - ECPv4.6.20.1//NONSGML v1.0//EN
CALSCALE:GREGORIAN
METHOD:PUBLISH
X-WR-CALNAME:Réseau des Citoyens Partenaires
X-ORIGINAL-URL:https://citoyens-partenaires.fr
X-WR-CALDESC:Events for Réseau des Citoyens Partenaires
BEGIN:VEVENT
DTSTART;TZID=Europe/Paris:20170617T090000
DTEND;TZID=Europe/Paris:20170617T170000
DTSTAMP:20260424T171747
CREATED:20170524T121743Z
LAST-MODIFIED:20170524T121743Z
UID:637-1497690000-1497718800@citoyens-partenaires.fr
SUMMARY:Randonnée à Béganne
DESCRIPTION: \n
URL:https://citoyens-partenaires.fr/index.php/agenda/randonnee-a-beganne/
END:VEVENT
END:VCALENDAR