BEGIN:VCALENDAR
VERSION:2.0
PRODID:-//Réseau des Citoyens Partenaires - ECPv4.6.20.1//NONSGML v1.0//EN
CALSCALE:GREGORIAN
METHOD:PUBLISH
X-WR-CALNAME:Réseau des Citoyens Partenaires
X-ORIGINAL-URL:https://citoyens-partenaires.fr
X-WR-CALDESC:Events for Réseau des Citoyens Partenaires
BEGIN:VEVENT
DTSTART;TZID=Europe/Paris:20171208T203000
DTEND;TZID=Europe/Paris:20171208T220000
DTSTAMP:20260424T033050
CREATED:20171127T140205Z
LAST-MODIFIED:20171127T140205Z
UID:890-1512765000-1512770400@citoyens-partenaires.fr
SUMMARY:Retour sur l'inauguration d'Avessac
DESCRIPTION:Participez au temps de convivialité des bénévoles de l’inauguration du parc éolien citoyen et public d’Avessac . \n
URL:https://citoyens-partenaires.fr/index.php/agenda/retour-linauguration-davessac/
END:VEVENT
END:VCALENDAR