BEGIN:VCALENDAR
VERSION:2.0
PRODID:-//Réseau des Citoyens Partenaires - ECPv4.6.20.1//NONSGML v1.0//EN
CALSCALE:GREGORIAN
METHOD:PUBLISH
X-WR-CALNAME:Réseau des Citoyens Partenaires
X-ORIGINAL-URL:https://citoyens-partenaires.fr
X-WR-CALDESC:Events for Réseau des Citoyens Partenaires
BEGIN:VEVENT
DTSTART;TZID=Europe/Paris:20170502T183000
DTEND;TZID=Europe/Paris:20170502T203000
DTSTAMP:20260424T202357
CREATED:20170502T095848Z
LAST-MODIFIED:20170502T095848Z
UID:578-1493749800-1493757000@citoyens-partenaires.fr
SUMMARY:Réunion de travail pour les futurs locaux du groupe EPV
DESCRIPTION:RDV à 18h30 au 51 route de Rennes à Redon pour réfléchir aux nouveaux locaux du groupe EPV. \n
URL:https://citoyens-partenaires.fr/index.php/agenda/reunion-de-travail-futurs-locaux-groupe-epv/
END:VEVENT
END:VCALENDAR