BEGIN:VCALENDAR
VERSION:2.0
PRODID:-//Réseau des Citoyens Partenaires - ECPv4.6.20.1//NONSGML v1.0//EN
CALSCALE:GREGORIAN
METHOD:PUBLISH
X-WR-CALNAME:Réseau des Citoyens Partenaires
X-ORIGINAL-URL:https://citoyens-partenaires.fr
X-WR-CALDESC:Events for Réseau des Citoyens Partenaires
BEGIN:VEVENT
DTSTART;TZID=Europe/Paris:20170503T190000
DTEND;TZID=Europe/Paris:20170503T203000
DTSTAMP:20260424T202314
CREATED:20170502T100148Z
LAST-MODIFIED:20170502T100148Z
UID:580-1493838000-1493843400@citoyens-partenaires.fr
SUMMARY:Réunion de travail : Inauguration du Parc éolien Citoyen d'Avessac
DESCRIPTION:RDV à 19h dans les locaux d’EPV\, 51 route de Rennes à Redon pour participer à l’organisation de l’inauguration du parc éolien citoyen d’Avessac. \n
URL:https://citoyens-partenaires.fr/index.php/agenda/reunion-de-travail-inauguration-parc-eolien-citoyen-davessac/
CATEGORIES:Réunion projets
END:VEVENT
END:VCALENDAR